BEGIN:VCALENDAR
VERSION:2.0
PRODID:-//Mt. Zion Baptist Church - ECPv4.9.2//NONSGML v1.0//EN
CALSCALE:GREGORIAN
METHOD:PUBLISH
X-WR-CALNAME:Mt. Zion Baptist Church
X-ORIGINAL-URL:https://mtzionbaptist.us
X-WR-CALDESC:Events for Mt. Zion Baptist Church
BEGIN:VEVENT
DTSTART;TZID=America/New_York:20280116T084500
DTEND;TZID=America/New_York:20280116T094500
DTSTAMP:20260425T164507
CREATED:20160804T194820Z
LAST-MODIFIED:20160804T194820Z
UID:8418-1831625100-1831628700@mtzionbaptist.us
SUMMARY:Contemporary Service
DESCRIPTION:
URL:https://mtzionbaptist.us/event/contemporary-service-35-2-2-2-2-4-3-2-3-2-2-3-3/2028-01-16/
LOCATION:Mt. Zion Baptist Church\, 5141 Dunbrooke Road\, Tappahannock\, VA\, 22560\, United States
CATEGORIES:Sunday Worship Service
END:VEVENT
BEGIN:VEVENT
DTSTART;TZID=America/New_York:20280116T090000
DTEND;TZID=America/New_York:20280116T095000
DTSTAMP:20260425T164507
CREATED:20160804T194820Z
LAST-MODIFIED:20160804T194820Z
UID:8422-1831626000-1831629000@mtzionbaptist.us
SUMMARY:Contemporary Service
DESCRIPTION:
URL:https://mtzionbaptist.us/event/contemporary-service-35-2-2-2-2-4-3-2-3-2-2-3-3-2019-04-07/2028-01-16/
LOCATION:Mt. Zion Baptist Church\, 5141 Dunbrooke Road\, Tappahannock\, VA\, 22560\, United States
CATEGORIES:Sunday Worship Service
END:VEVENT
BEGIN:VEVENT
DTSTART;TZID=America/New_York:20280116T110000
DTEND;TZID=America/New_York:20280116T120000
DTSTAMP:20260425T164507
CREATED:20160804T195353Z
LAST-MODIFIED:20160804T195353Z
UID:8421-1831633200-1831636800@mtzionbaptist.us
SUMMARY:Worship Service
DESCRIPTION:
URL:https://mtzionbaptist.us/event/traditional-service-33-3-4-3-2-2-2-2-2-2-3/2028-01-16/
LOCATION:Mt. Zion Baptist Church\, 5141 Dunbrooke Road\, Tappahannock\, VA\, 22560\, United States
CATEGORIES:Sunday Worship Service
END:VEVENT
END:VCALENDAR