BEGIN:VCALENDAR
VERSION:2.0
PRODID:-//Mt. Zion Baptist Church - ECPv4.9.2//NONSGML v1.0//EN
CALSCALE:GREGORIAN
METHOD:PUBLISH
X-WR-CALNAME:Mt. Zion Baptist Church
X-ORIGINAL-URL:https://mtzionbaptist.us
X-WR-CALDESC:Events for Mt. Zion Baptist Church
BEGIN:VEVENT
DTSTART;TZID=America/New_York:20250907T084500
DTEND;TZID=America/New_York:20250907T094500
DTSTAMP:20260424T140337
CREATED:20160804T194820Z
LAST-MODIFIED:20160804T194820Z
UID:7360-1757234700-1757238300@mtzionbaptist.us
SUMMARY:Contemporary Service
DESCRIPTION:
URL:https://mtzionbaptist.us/event/contemporary-service-35-2-2-2-2-4-3-2-3-2-2-3-3/2025-09-07/
LOCATION:Mt. Zion Baptist Church\, 5141 Dunbrooke Road\, Tappahannock\, VA\, 22560\, United States
CATEGORIES:Sunday Worship Service
END:VEVENT
BEGIN:VEVENT
DTSTART;TZID=America/New_York:20250907T090000
DTEND;TZID=America/New_York:20250907T095000
DTSTAMP:20260424T140337
CREATED:20160804T194820Z
LAST-MODIFIED:20160804T194820Z
UID:8135-1757235600-1757238600@mtzionbaptist.us
SUMMARY:Contemporary Service
DESCRIPTION:
URL:https://mtzionbaptist.us/event/contemporary-service-35-2-2-2-2-4-3-2-3-2-2-3-3-2019-04-07/2025-09-07/
LOCATION:Mt. Zion Baptist Church\, 5141 Dunbrooke Road\, Tappahannock\, VA\, 22560\, United States
CATEGORIES:Sunday Worship Service
END:VEVENT
BEGIN:VEVENT
DTSTART;TZID=America/New_York:20250907T110000
DTEND;TZID=America/New_York:20250907T120000
DTSTAMP:20260424T140337
CREATED:20160804T195353Z
LAST-MODIFIED:20160804T195353Z
UID:7980-1757242800-1757246400@mtzionbaptist.us
SUMMARY:Worship Service
DESCRIPTION:
URL:https://mtzionbaptist.us/event/traditional-service-33-3-4-3-2-2-2-2-2-2-3/2025-09-07/
LOCATION:Mt. Zion Baptist Church\, 5141 Dunbrooke Road\, Tappahannock\, VA\, 22560\, United States
CATEGORIES:Sunday Worship Service
END:VEVENT
END:VCALENDAR