BEGIN:VCALENDAR
VERSION:2.0
PRODID:-//Mt. Zion Baptist Church - ECPv4.9.2//NONSGML v1.0//EN
CALSCALE:GREGORIAN
METHOD:PUBLISH
X-WR-CALNAME:Mt. Zion Baptist Church
X-ORIGINAL-URL:https://mtzionbaptist.us
X-WR-CALDESC:Events for Mt. Zion Baptist Church
BEGIN:VEVENT
DTSTART;TZID=America/New_York:20250525T084500
DTEND;TZID=America/New_York:20250525T094500
DTSTAMP:20260424T234151
CREATED:20160804T194820Z
LAST-MODIFIED:20160804T194820Z
UID:7345-1748162700-1748166300@mtzionbaptist.us
SUMMARY:Contemporary Service
DESCRIPTION:
URL:https://mtzionbaptist.us/event/contemporary-service-35-2-2-2-2-4-3-2-3-2-2-3-3/2025-05-25/
LOCATION:Mt. Zion Baptist Church\, 5141 Dunbrooke Road\, Tappahannock\, VA\, 22560\, United States
CATEGORIES:Sunday Worship Service
END:VEVENT
BEGIN:VEVENT
DTSTART;TZID=America/New_York:20250525T090000
DTEND;TZID=America/New_York:20250525T095000
DTSTAMP:20260424T234151
CREATED:20160804T194820Z
LAST-MODIFIED:20160804T194820Z
UID:8120-1748163600-1748166600@mtzionbaptist.us
SUMMARY:Contemporary Service
DESCRIPTION:
URL:https://mtzionbaptist.us/event/contemporary-service-35-2-2-2-2-4-3-2-3-2-2-3-3-2019-04-07/2025-05-25/
LOCATION:Mt. Zion Baptist Church\, 5141 Dunbrooke Road\, Tappahannock\, VA\, 22560\, United States
CATEGORIES:Sunday Worship Service
END:VEVENT
BEGIN:VEVENT
DTSTART;TZID=America/New_York:20250525T110000
DTEND;TZID=America/New_York:20250525T120000
DTSTAMP:20260424T234151
CREATED:20160804T195353Z
LAST-MODIFIED:20160804T195353Z
UID:7965-1748170800-1748174400@mtzionbaptist.us
SUMMARY:Worship Service
DESCRIPTION:
URL:https://mtzionbaptist.us/event/traditional-service-33-3-4-3-2-2-2-2-2-2-3/2025-05-25/
LOCATION:Mt. Zion Baptist Church\, 5141 Dunbrooke Road\, Tappahannock\, VA\, 22560\, United States
CATEGORIES:Sunday Worship Service
END:VEVENT
END:VCALENDAR