BEGIN:VCALENDAR
VERSION:2.0
PRODID:-//Mt. Zion Baptist Church - ECPv4.9.2//NONSGML v1.0//EN
CALSCALE:GREGORIAN
METHOD:PUBLISH
X-WR-CALNAME:Mt. Zion Baptist Church
X-ORIGINAL-URL:https://mtzionbaptist.us
X-WR-CALDESC:Events for Mt. Zion Baptist Church
BEGIN:VEVENT
DTSTART;TZID=America/New_York:20260329T084500
DTEND;TZID=America/New_York:20260329T094500
DTSTAMP:20260423T123631
CREATED:20160804T194820Z
LAST-MODIFIED:20160804T194820Z
UID:7389-1774773900-1774777500@mtzionbaptist.us
SUMMARY:Contemporary Service
DESCRIPTION:
URL:https://mtzionbaptist.us/event/contemporary-service-35-2-2-2-2-4-3-2-3-2-2-3-3/2026-03-29/
LOCATION:Mt. Zion Baptist Church\, 5141 Dunbrooke Road\, Tappahannock\, VA\, 22560\, United States
CATEGORIES:Sunday Worship Service
END:VEVENT
BEGIN:VEVENT
DTSTART;TZID=America/New_York:20260329T090000
DTEND;TZID=America/New_York:20260329T095000
DTSTAMP:20260423T123631
CREATED:20160804T194820Z
LAST-MODIFIED:20160804T194820Z
UID:8164-1774774800-1774777800@mtzionbaptist.us
SUMMARY:Contemporary Service
DESCRIPTION:
URL:https://mtzionbaptist.us/event/contemporary-service-35-2-2-2-2-4-3-2-3-2-2-3-3-2019-04-07/2026-03-29/
LOCATION:Mt. Zion Baptist Church\, 5141 Dunbrooke Road\, Tappahannock\, VA\, 22560\, United States
CATEGORIES:Sunday Worship Service
END:VEVENT
BEGIN:VEVENT
DTSTART;TZID=America/New_York:20260329T095000
DTEND;TZID=America/New_York:20260329T100000
DTSTAMP:20260423T123631
CREATED:20161203T205020Z
LAST-MODIFIED:20161203T205020Z
UID:7699-1774777800-1774778400@mtzionbaptist.us
SUMMARY:Sunday Morning Fellowship
DESCRIPTION:Join us for Sunday Morning Fellowship with coffee\, juice\, and doughnuts before Sunday School. \n
URL:https://mtzionbaptist.us/event/sunday-morning-fellowship-36-3-3-3-2-2-2-2-2-3-3/2026-03-29/
LOCATION:Mt. Zion Baptist Church\, 5141 Dunbrooke Road\, Tappahannock\, VA\, 22560\, United States
END:VEVENT
BEGIN:VEVENT
DTSTART;TZID=America/New_York:20260329T100000
DTEND;TZID=America/New_York:20260329T110000
DTSTAMP:20260423T123631
CREATED:20160804T195201Z
LAST-MODIFIED:20160804T195201Z
UID:7854-1774778400-1774782000@mtzionbaptist.us
SUMMARY:Sunday School
DESCRIPTION:
URL:https://mtzionbaptist.us/event/sunday-school-35-2-4-2-3-3-3-2-2-2-3-2-3/2026-03-29/
LOCATION:Mt. Zion Baptist Church\, 5141 Dunbrooke Road\, Tappahannock\, VA\, 22560\, United States
CATEGORIES:Sunday School
END:VEVENT
BEGIN:VEVENT
DTSTART;TZID=America/New_York:20260329T110000
DTEND;TZID=America/New_York:20260329T120000
DTSTAMP:20260423T123631
CREATED:20160804T195353Z
LAST-MODIFIED:20160804T195353Z
UID:8009-1774782000-1774785600@mtzionbaptist.us
SUMMARY:Worship Service
DESCRIPTION:
URL:https://mtzionbaptist.us/event/traditional-service-33-3-4-3-2-2-2-2-2-2-3/2026-03-29/
LOCATION:Mt. Zion Baptist Church\, 5141 Dunbrooke Road\, Tappahannock\, VA\, 22560\, United States
CATEGORIES:Sunday Worship Service
END:VEVENT
BEGIN:VEVENT
DTSTART;TZID=America/New_York:20260401T183000
DTEND;TZID=America/New_York:20260401T193000
DTSTAMP:20260423T123631
CREATED:20160804T194635Z
LAST-MODIFIED:20160804T194635Z
UID:7544-1775068200-1775071800@mtzionbaptist.us
SUMMARY:Bible Study
DESCRIPTION:Join us for an in-depth study every Wednesday night at 6:30pm. \n
URL:https://mtzionbaptist.us/event/bible-study-37-2-2-5-3-2-2-2-2-2-2-2-2-3/2026-04-01/
LOCATION:Mt. Zion Baptist Church\, 5141 Dunbrooke Road\, Tappahannock\, VA\, 22560\, United States
END:VEVENT
BEGIN:VEVENT
DTSTART;TZID=America/New_York:20260405T084500
DTEND;TZID=America/New_York:20260405T094500
DTSTAMP:20260423T123631
CREATED:20160804T194820Z
LAST-MODIFIED:20160804T194820Z
UID:7390-1775378700-1775382300@mtzionbaptist.us
SUMMARY:Contemporary Service
DESCRIPTION:
URL:https://mtzionbaptist.us/event/contemporary-service-35-2-2-2-2-4-3-2-3-2-2-3-3/2026-04-05/
LOCATION:Mt. Zion Baptist Church\, 5141 Dunbrooke Road\, Tappahannock\, VA\, 22560\, United States
CATEGORIES:Sunday Worship Service
END:VEVENT
BEGIN:VEVENT
DTSTART;TZID=America/New_York:20260405T090000
DTEND;TZID=America/New_York:20260405T095000
DTSTAMP:20260423T123631
CREATED:20160804T194820Z
LAST-MODIFIED:20160804T194820Z
UID:8165-1775379600-1775382600@mtzionbaptist.us
SUMMARY:Contemporary Service
DESCRIPTION:
URL:https://mtzionbaptist.us/event/contemporary-service-35-2-2-2-2-4-3-2-3-2-2-3-3-2019-04-07/2026-04-05/
LOCATION:Mt. Zion Baptist Church\, 5141 Dunbrooke Road\, Tappahannock\, VA\, 22560\, United States
CATEGORIES:Sunday Worship Service
END:VEVENT
BEGIN:VEVENT
DTSTART;TZID=America/New_York:20260405T095000
DTEND;TZID=America/New_York:20260405T100000
DTSTAMP:20260423T123631
CREATED:20161203T205020Z
LAST-MODIFIED:20161203T205020Z
UID:7700-1775382600-1775383200@mtzionbaptist.us
SUMMARY:Sunday Morning Fellowship
DESCRIPTION:Join us for Sunday Morning Fellowship with coffee\, juice\, and doughnuts before Sunday School. \n
URL:https://mtzionbaptist.us/event/sunday-morning-fellowship-36-3-3-3-2-2-2-2-2-3-3/2026-04-05/
LOCATION:Mt. Zion Baptist Church\, 5141 Dunbrooke Road\, Tappahannock\, VA\, 22560\, United States
END:VEVENT
BEGIN:VEVENT
DTSTART;TZID=America/New_York:20260405T100000
DTEND;TZID=America/New_York:20260405T110000
DTSTAMP:20260423T123631
CREATED:20160804T195201Z
LAST-MODIFIED:20160804T195201Z
UID:7855-1775383200-1775386800@mtzionbaptist.us
SUMMARY:Sunday School
DESCRIPTION:
URL:https://mtzionbaptist.us/event/sunday-school-35-2-4-2-3-3-3-2-2-2-3-2-3/2026-04-05/
LOCATION:Mt. Zion Baptist Church\, 5141 Dunbrooke Road\, Tappahannock\, VA\, 22560\, United States
CATEGORIES:Sunday School
END:VEVENT
BEGIN:VEVENT
DTSTART;TZID=America/New_York:20260405T110000
DTEND;TZID=America/New_York:20260405T120000
DTSTAMP:20260423T123631
CREATED:20160804T195353Z
LAST-MODIFIED:20160804T195353Z
UID:8010-1775386800-1775390400@mtzionbaptist.us
SUMMARY:Worship Service
DESCRIPTION:
URL:https://mtzionbaptist.us/event/traditional-service-33-3-4-3-2-2-2-2-2-2-3/2026-04-05/
LOCATION:Mt. Zion Baptist Church\, 5141 Dunbrooke Road\, Tappahannock\, VA\, 22560\, United States
CATEGORIES:Sunday Worship Service
END:VEVENT
BEGIN:VEVENT
DTSTART;TZID=America/New_York:20260408T183000
DTEND;TZID=America/New_York:20260408T193000
DTSTAMP:20260423T123631
CREATED:20160804T194635Z
LAST-MODIFIED:20160804T194635Z
UID:7545-1775673000-1775676600@mtzionbaptist.us
SUMMARY:Bible Study
DESCRIPTION:Join us for an in-depth study every Wednesday night at 6:30pm. \n
URL:https://mtzionbaptist.us/event/bible-study-37-2-2-5-3-2-2-2-2-2-2-2-2-3/2026-04-08/
LOCATION:Mt. Zion Baptist Church\, 5141 Dunbrooke Road\, Tappahannock\, VA\, 22560\, United States
END:VEVENT
BEGIN:VEVENT
DTSTART;TZID=America/New_York:20260412T084500
DTEND;TZID=America/New_York:20260412T094500
DTSTAMP:20260423T123631
CREATED:20160804T194820Z
LAST-MODIFIED:20160804T194820Z
UID:7391-1775983500-1775987100@mtzionbaptist.us
SUMMARY:Contemporary Service
DESCRIPTION:
URL:https://mtzionbaptist.us/event/contemporary-service-35-2-2-2-2-4-3-2-3-2-2-3-3/2026-04-12/
LOCATION:Mt. Zion Baptist Church\, 5141 Dunbrooke Road\, Tappahannock\, VA\, 22560\, United States
CATEGORIES:Sunday Worship Service
END:VEVENT
BEGIN:VEVENT
DTSTART;TZID=America/New_York:20260412T090000
DTEND;TZID=America/New_York:20260412T095000
DTSTAMP:20260423T123631
CREATED:20160804T194820Z
LAST-MODIFIED:20160804T194820Z
UID:8166-1775984400-1775987400@mtzionbaptist.us
SUMMARY:Contemporary Service
DESCRIPTION:
URL:https://mtzionbaptist.us/event/contemporary-service-35-2-2-2-2-4-3-2-3-2-2-3-3-2019-04-07/2026-04-12/
LOCATION:Mt. Zion Baptist Church\, 5141 Dunbrooke Road\, Tappahannock\, VA\, 22560\, United States
CATEGORIES:Sunday Worship Service
END:VEVENT
BEGIN:VEVENT
DTSTART;TZID=America/New_York:20260412T095000
DTEND;TZID=America/New_York:20260412T100000
DTSTAMP:20260423T123631
CREATED:20161203T205020Z
LAST-MODIFIED:20161203T205020Z
UID:7701-1775987400-1775988000@mtzionbaptist.us
SUMMARY:Sunday Morning Fellowship
DESCRIPTION:Join us for Sunday Morning Fellowship with coffee\, juice\, and doughnuts before Sunday School. \n
URL:https://mtzionbaptist.us/event/sunday-morning-fellowship-36-3-3-3-2-2-2-2-2-3-3/2026-04-12/
LOCATION:Mt. Zion Baptist Church\, 5141 Dunbrooke Road\, Tappahannock\, VA\, 22560\, United States
END:VEVENT
BEGIN:VEVENT
DTSTART;TZID=America/New_York:20260412T100000
DTEND;TZID=America/New_York:20260412T110000
DTSTAMP:20260423T123631
CREATED:20160804T195201Z
LAST-MODIFIED:20160804T195201Z
UID:7856-1775988000-1775991600@mtzionbaptist.us
SUMMARY:Sunday School
DESCRIPTION:
URL:https://mtzionbaptist.us/event/sunday-school-35-2-4-2-3-3-3-2-2-2-3-2-3/2026-04-12/
LOCATION:Mt. Zion Baptist Church\, 5141 Dunbrooke Road\, Tappahannock\, VA\, 22560\, United States
CATEGORIES:Sunday School
END:VEVENT
BEGIN:VEVENT
DTSTART;TZID=America/New_York:20260412T110000
DTEND;TZID=America/New_York:20260412T120000
DTSTAMP:20260423T123631
CREATED:20160804T195353Z
LAST-MODIFIED:20160804T195353Z
UID:8011-1775991600-1775995200@mtzionbaptist.us
SUMMARY:Worship Service
DESCRIPTION:
URL:https://mtzionbaptist.us/event/traditional-service-33-3-4-3-2-2-2-2-2-2-3/2026-04-12/
LOCATION:Mt. Zion Baptist Church\, 5141 Dunbrooke Road\, Tappahannock\, VA\, 22560\, United States
CATEGORIES:Sunday Worship Service
END:VEVENT
BEGIN:VEVENT
DTSTART;TZID=America/New_York:20260415T183000
DTEND;TZID=America/New_York:20260415T193000
DTSTAMP:20260423T123631
CREATED:20160804T194635Z
LAST-MODIFIED:20160804T194635Z
UID:7546-1776277800-1776281400@mtzionbaptist.us
SUMMARY:Bible Study
DESCRIPTION:Join us for an in-depth study every Wednesday night at 6:30pm. \n
URL:https://mtzionbaptist.us/event/bible-study-37-2-2-5-3-2-2-2-2-2-2-2-2-3/2026-04-15/
LOCATION:Mt. Zion Baptist Church\, 5141 Dunbrooke Road\, Tappahannock\, VA\, 22560\, United States
END:VEVENT
BEGIN:VEVENT
DTSTART;TZID=America/New_York:20260419T084500
DTEND;TZID=America/New_York:20260419T094500
DTSTAMP:20260423T123631
CREATED:20160804T194820Z
LAST-MODIFIED:20160804T194820Z
UID:7392-1776588300-1776591900@mtzionbaptist.us
SUMMARY:Contemporary Service
DESCRIPTION:
URL:https://mtzionbaptist.us/event/contemporary-service-35-2-2-2-2-4-3-2-3-2-2-3-3/2026-04-19/
LOCATION:Mt. Zion Baptist Church\, 5141 Dunbrooke Road\, Tappahannock\, VA\, 22560\, United States
CATEGORIES:Sunday Worship Service
END:VEVENT
BEGIN:VEVENT
DTSTART;TZID=America/New_York:20260419T090000
DTEND;TZID=America/New_York:20260419T095000
DTSTAMP:20260423T123631
CREATED:20160804T194820Z
LAST-MODIFIED:20160804T194820Z
UID:8167-1776589200-1776592200@mtzionbaptist.us
SUMMARY:Contemporary Service
DESCRIPTION:
URL:https://mtzionbaptist.us/event/contemporary-service-35-2-2-2-2-4-3-2-3-2-2-3-3-2019-04-07/2026-04-19/
LOCATION:Mt. Zion Baptist Church\, 5141 Dunbrooke Road\, Tappahannock\, VA\, 22560\, United States
CATEGORIES:Sunday Worship Service
END:VEVENT
BEGIN:VEVENT
DTSTART;TZID=America/New_York:20260419T095000
DTEND;TZID=America/New_York:20260419T100000
DTSTAMP:20260423T123631
CREATED:20161203T205020Z
LAST-MODIFIED:20161203T205020Z
UID:7702-1776592200-1776592800@mtzionbaptist.us
SUMMARY:Sunday Morning Fellowship
DESCRIPTION:Join us for Sunday Morning Fellowship with coffee\, juice\, and doughnuts before Sunday School. \n
URL:https://mtzionbaptist.us/event/sunday-morning-fellowship-36-3-3-3-2-2-2-2-2-3-3/2026-04-19/
LOCATION:Mt. Zion Baptist Church\, 5141 Dunbrooke Road\, Tappahannock\, VA\, 22560\, United States
END:VEVENT
BEGIN:VEVENT
DTSTART;TZID=America/New_York:20260419T100000
DTEND;TZID=America/New_York:20260419T110000
DTSTAMP:20260423T123631
CREATED:20160804T195201Z
LAST-MODIFIED:20160804T195201Z
UID:7857-1776592800-1776596400@mtzionbaptist.us
SUMMARY:Sunday School
DESCRIPTION:
URL:https://mtzionbaptist.us/event/sunday-school-35-2-4-2-3-3-3-2-2-2-3-2-3/2026-04-19/
LOCATION:Mt. Zion Baptist Church\, 5141 Dunbrooke Road\, Tappahannock\, VA\, 22560\, United States
CATEGORIES:Sunday School
END:VEVENT
BEGIN:VEVENT
DTSTART;TZID=America/New_York:20260419T110000
DTEND;TZID=America/New_York:20260419T120000
DTSTAMP:20260423T123631
CREATED:20160804T195353Z
LAST-MODIFIED:20160804T195353Z
UID:8012-1776596400-1776600000@mtzionbaptist.us
SUMMARY:Worship Service
DESCRIPTION:
URL:https://mtzionbaptist.us/event/traditional-service-33-3-4-3-2-2-2-2-2-2-3/2026-04-19/
LOCATION:Mt. Zion Baptist Church\, 5141 Dunbrooke Road\, Tappahannock\, VA\, 22560\, United States
CATEGORIES:Sunday Worship Service
END:VEVENT
BEGIN:VEVENT
DTSTART;TZID=America/New_York:20260422T183000
DTEND;TZID=America/New_York:20260422T193000
DTSTAMP:20260423T123631
CREATED:20160804T194635Z
LAST-MODIFIED:20160804T194635Z
UID:7547-1776882600-1776886200@mtzionbaptist.us
SUMMARY:Bible Study
DESCRIPTION:Join us for an in-depth study every Wednesday night at 6:30pm. \n
URL:https://mtzionbaptist.us/event/bible-study-37-2-2-5-3-2-2-2-2-2-2-2-2-3/2026-04-22/
LOCATION:Mt. Zion Baptist Church\, 5141 Dunbrooke Road\, Tappahannock\, VA\, 22560\, United States
END:VEVENT
BEGIN:VEVENT
DTSTART;TZID=America/New_York:20260426T084500
DTEND;TZID=America/New_York:20260426T094500
DTSTAMP:20260423T123631
CREATED:20160804T194820Z
LAST-MODIFIED:20160804T194820Z
UID:7393-1777193100-1777196700@mtzionbaptist.us
SUMMARY:Contemporary Service
DESCRIPTION:
URL:https://mtzionbaptist.us/event/contemporary-service-35-2-2-2-2-4-3-2-3-2-2-3-3/2026-04-26/
LOCATION:Mt. Zion Baptist Church\, 5141 Dunbrooke Road\, Tappahannock\, VA\, 22560\, United States
CATEGORIES:Sunday Worship Service
END:VEVENT
BEGIN:VEVENT
DTSTART;TZID=America/New_York:20260426T090000
DTEND;TZID=America/New_York:20260426T095000
DTSTAMP:20260423T123631
CREATED:20160804T194820Z
LAST-MODIFIED:20160804T194820Z
UID:8168-1777194000-1777197000@mtzionbaptist.us
SUMMARY:Contemporary Service
DESCRIPTION:
URL:https://mtzionbaptist.us/event/contemporary-service-35-2-2-2-2-4-3-2-3-2-2-3-3-2019-04-07/2026-04-26/
LOCATION:Mt. Zion Baptist Church\, 5141 Dunbrooke Road\, Tappahannock\, VA\, 22560\, United States
CATEGORIES:Sunday Worship Service
END:VEVENT
BEGIN:VEVENT
DTSTART;TZID=America/New_York:20260426T095000
DTEND;TZID=America/New_York:20260426T100000
DTSTAMP:20260423T123631
CREATED:20161203T205020Z
LAST-MODIFIED:20161203T205020Z
UID:7703-1777197000-1777197600@mtzionbaptist.us
SUMMARY:Sunday Morning Fellowship
DESCRIPTION:Join us for Sunday Morning Fellowship with coffee\, juice\, and doughnuts before Sunday School. \n
URL:https://mtzionbaptist.us/event/sunday-morning-fellowship-36-3-3-3-2-2-2-2-2-3-3/2026-04-26/
LOCATION:Mt. Zion Baptist Church\, 5141 Dunbrooke Road\, Tappahannock\, VA\, 22560\, United States
END:VEVENT
BEGIN:VEVENT
DTSTART;TZID=America/New_York:20260426T100000
DTEND;TZID=America/New_York:20260426T110000
DTSTAMP:20260423T123631
CREATED:20160804T195201Z
LAST-MODIFIED:20160804T195201Z
UID:7858-1777197600-1777201200@mtzionbaptist.us
SUMMARY:Sunday School
DESCRIPTION:
URL:https://mtzionbaptist.us/event/sunday-school-35-2-4-2-3-3-3-2-2-2-3-2-3/2026-04-26/
LOCATION:Mt. Zion Baptist Church\, 5141 Dunbrooke Road\, Tappahannock\, VA\, 22560\, United States
CATEGORIES:Sunday School
END:VEVENT
BEGIN:VEVENT
DTSTART;TZID=America/New_York:20260426T110000
DTEND;TZID=America/New_York:20260426T120000
DTSTAMP:20260423T123631
CREATED:20160804T195353Z
LAST-MODIFIED:20160804T195353Z
UID:8013-1777201200-1777204800@mtzionbaptist.us
SUMMARY:Worship Service
DESCRIPTION:
URL:https://mtzionbaptist.us/event/traditional-service-33-3-4-3-2-2-2-2-2-2-3/2026-04-26/
LOCATION:Mt. Zion Baptist Church\, 5141 Dunbrooke Road\, Tappahannock\, VA\, 22560\, United States
CATEGORIES:Sunday Worship Service
END:VEVENT
BEGIN:VEVENT
DTSTART;TZID=America/New_York:20260429T183000
DTEND;TZID=America/New_York:20260429T193000
DTSTAMP:20260423T123631
CREATED:20160804T194635Z
LAST-MODIFIED:20160804T194635Z
UID:7548-1777487400-1777491000@mtzionbaptist.us
SUMMARY:Bible Study
DESCRIPTION:Join us for an in-depth study every Wednesday night at 6:30pm. \n
URL:https://mtzionbaptist.us/event/bible-study-37-2-2-5-3-2-2-2-2-2-2-2-2-3/2026-04-29/
LOCATION:Mt. Zion Baptist Church\, 5141 Dunbrooke Road\, Tappahannock\, VA\, 22560\, United States
END:VEVENT
END:VCALENDAR