BEGIN:VCALENDAR
VERSION:2.0
PRODID:-//Mt. Zion Baptist Church - ECPv4.9.2//NONSGML v1.0//EN
CALSCALE:GREGORIAN
METHOD:PUBLISH
X-WR-CALNAME:Mt. Zion Baptist Church
X-ORIGINAL-URL:https://mtzionbaptist.us
X-WR-CALDESC:Events for Mt. Zion Baptist Church
BEGIN:VEVENT
DTSTART;TZID=America/New_York:20260118T084500
DTEND;TZID=America/New_York:20260118T094500
DTSTAMP:20260425T163915
CREATED:20160804T194820Z
LAST-MODIFIED:20160804T194820Z
UID:7379-1768725900-1768729500@mtzionbaptist.us
SUMMARY:Contemporary Service
DESCRIPTION:
URL:https://mtzionbaptist.us/event/contemporary-service-35-2-2-2-2-4-3-2-3-2-2-3-3/2026-01-18/
LOCATION:Mt. Zion Baptist Church\, 5141 Dunbrooke Road\, Tappahannock\, VA\, 22560\, United States
CATEGORIES:Sunday Worship Service
END:VEVENT
BEGIN:VEVENT
DTSTART;TZID=America/New_York:20260118T090000
DTEND;TZID=America/New_York:20260118T095000
DTSTAMP:20260425T163915
CREATED:20160804T194820Z
LAST-MODIFIED:20160804T194820Z
UID:8154-1768726800-1768729800@mtzionbaptist.us
SUMMARY:Contemporary Service
DESCRIPTION:
URL:https://mtzionbaptist.us/event/contemporary-service-35-2-2-2-2-4-3-2-3-2-2-3-3-2019-04-07/2026-01-18/
LOCATION:Mt. Zion Baptist Church\, 5141 Dunbrooke Road\, Tappahannock\, VA\, 22560\, United States
CATEGORIES:Sunday Worship Service
END:VEVENT
BEGIN:VEVENT
DTSTART;TZID=America/New_York:20260118T095000
DTEND;TZID=America/New_York:20260118T100000
DTSTAMP:20260425T163915
CREATED:20161203T205020Z
LAST-MODIFIED:20161203T205020Z
UID:7689-1768729800-1768730400@mtzionbaptist.us
SUMMARY:Sunday Morning Fellowship
DESCRIPTION:Join us for Sunday Morning Fellowship with coffee\, juice\, and doughnuts before Sunday School. \n
URL:https://mtzionbaptist.us/event/sunday-morning-fellowship-36-3-3-3-2-2-2-2-2-3-3/2026-01-18/
LOCATION:Mt. Zion Baptist Church\, 5141 Dunbrooke Road\, Tappahannock\, VA\, 22560\, United States
END:VEVENT
BEGIN:VEVENT
DTSTART;TZID=America/New_York:20260118T100000
DTEND;TZID=America/New_York:20260118T110000
DTSTAMP:20260425T163915
CREATED:20160804T195201Z
LAST-MODIFIED:20160804T195201Z
UID:7844-1768730400-1768734000@mtzionbaptist.us
SUMMARY:Sunday School
DESCRIPTION:
URL:https://mtzionbaptist.us/event/sunday-school-35-2-4-2-3-3-3-2-2-2-3-2-3/2026-01-18/
LOCATION:Mt. Zion Baptist Church\, 5141 Dunbrooke Road\, Tappahannock\, VA\, 22560\, United States
CATEGORIES:Sunday School
END:VEVENT
BEGIN:VEVENT
DTSTART;TZID=America/New_York:20260118T110000
DTEND;TZID=America/New_York:20260118T120000
DTSTAMP:20260425T163915
CREATED:20160804T195353Z
LAST-MODIFIED:20160804T195353Z
UID:7999-1768734000-1768737600@mtzionbaptist.us
SUMMARY:Worship Service
DESCRIPTION:
URL:https://mtzionbaptist.us/event/traditional-service-33-3-4-3-2-2-2-2-2-2-3/2026-01-18/
LOCATION:Mt. Zion Baptist Church\, 5141 Dunbrooke Road\, Tappahannock\, VA\, 22560\, United States
CATEGORIES:Sunday Worship Service
END:VEVENT
END:VCALENDAR