BEGIN:VCALENDAR
VERSION:2.0
PRODID:-//Mt. Zion Baptist Church - ECPv4.9.2//NONSGML v1.0//EN
CALSCALE:GREGORIAN
METHOD:PUBLISH
X-WR-CALNAME:Mt. Zion Baptist Church
X-ORIGINAL-URL:https://mtzionbaptist.us
X-WR-CALDESC:Events for Mt. Zion Baptist Church
BEGIN:VEVENT
DTSTART;TZID=America/New_York:20170122T110000
DTEND;TZID=America/New_York:20170122T120000
DTSTAMP:20260426T031840
CREATED:20160804T195353Z
LAST-MODIFIED:20170123T134614Z
UID:2106-1485082800-1485086400@mtzionbaptist.us
SUMMARY:Traditional Service
DESCRIPTION:
URL:https://mtzionbaptist.us/event/traditional-service-33-3-4-3-2-2-2-2-3/
LOCATION:Mt. Zion Baptist Church\, 5141 Dunbrooke Road\, Tappahannock\, VA\, 22560\, United States
CATEGORIES:Sunday Worship Service
END:VEVENT
END:VCALENDAR