BEGIN:VCALENDAR
VERSION:2.0
PRODID:-//Mt. Zion Baptist Church - ECPv4.9.2//NONSGML v1.0//EN
CALSCALE:GREGORIAN
METHOD:PUBLISH
X-WR-CALNAME:Mt. Zion Baptist Church
X-ORIGINAL-URL:https://mtzionbaptist.us
X-WR-CALDESC:Events for Mt. Zion Baptist Church
BEGIN:VEVENT
DTSTART;TZID=America/New_York:20170129T100000
DTEND;TZID=America/New_York:20170129T110000
DTSTAMP:20260426T004925
CREATED:20160804T195201Z
LAST-MODIFIED:20170127T214146Z
UID:2126-1485684000-1485687600@mtzionbaptist.us
SUMMARY:Sunday School
DESCRIPTION:
URL:https://mtzionbaptist.us/event/sunday-school-35-2-4-2-3-3-3-2-2-2-3-2-3/2017-01-29/
LOCATION:Mt. Zion Baptist Church\, 5141 Dunbrooke Road\, Tappahannock\, VA\, 22560\, United States
CATEGORIES:Sunday School
END:VEVENT
END:VCALENDAR