BEGIN:VCALENDAR
VERSION:2.0
PRODID:-//Mt. Zion Baptist Church - ECPv4.9.2//NONSGML v1.0//EN
CALSCALE:GREGORIAN
METHOD:PUBLISH
X-WR-CALNAME:Mt. Zion Baptist Church
X-ORIGINAL-URL:https://mtzionbaptist.us
X-WR-CALDESC:Events for Mt. Zion Baptist Church
BEGIN:VEVENT
DTSTART;TZID=America/New_York:20200325T173000
DTEND;TZID=America/New_York:20220323T173000
DTSTAMP:20260425T181248
CREATED:20200324T192619Z
LAST-MODIFIED:20200324T192703Z
UID:5836-1585157400-1648056600@mtzionbaptist.us
SUMMARY:Fellowship Meal
DESCRIPTION:Wednesday night fellowship Pot Luck Meal.  Bring a dish to share with everyone. \n
URL:https://mtzionbaptist.us/event/fellowship-meal/
LOCATION:Mt. Zion Baptist Church\, 5141 Dunbrooke Road\, Tappahannock\, VA\, 22560\, United States
END:VEVENT
END:VCALENDAR