BEGIN:VCALENDAR
VERSION:2.0
PRODID:-//Mt. Zion Baptist Church - ECPv4.9.2//NONSGML v1.0//EN
CALSCALE:GREGORIAN
METHOD:PUBLISH
X-WR-CALNAME:Mt. Zion Baptist Church
X-ORIGINAL-URL:https://mtzionbaptist.us
X-WR-CALDESC:Events for Mt. Zion Baptist Church
BEGIN:VEVENT
DTSTART;TZID=America/New_York:20260531T084500
DTEND;TZID=America/New_York:20260531T094500
DTSTAMP:20260423T223752
CREATED:20160804T194820Z
LAST-MODIFIED:20160804T194820Z
UID:7398-1780217100-1780220700@mtzionbaptist.us
SUMMARY:Contemporary Service
DESCRIPTION:
URL:https://mtzionbaptist.us/event/contemporary-service-35-2-2-2-2-4-3-2-3-2-2-3-3/2026-05-31/
LOCATION:Mt. Zion Baptist Church\, 5141 Dunbrooke Road\, Tappahannock\, VA\, 22560\, United States
CATEGORIES:Sunday Worship Service
END:VEVENT
END:VCALENDAR