BEGIN:VCALENDAR
VERSION:2.0
PRODID:-//Mt. Zion Baptist Church - ECPv4.9.2//NONSGML v1.0//EN
CALSCALE:GREGORIAN
METHOD:PUBLISH
X-WR-CALNAME:Mt. Zion Baptist Church
X-ORIGINAL-URL:https://mtzionbaptist.us
X-WR-CALDESC:Events for Mt. Zion Baptist Church
BEGIN:VEVENT
DTSTART;TZID=America/New_York:20260506T183000
DTEND;TZID=America/New_York:20260506T193000
DTSTAMP:20260424T002300
CREATED:20160804T194635Z
LAST-MODIFIED:20160804T194635Z
UID:7549-1778092200-1778095800@mtzionbaptist.us
SUMMARY:Bible Study
DESCRIPTION:Join us for an in-depth study every Wednesday night at 6:30pm. \n
URL:https://mtzionbaptist.us/event/bible-study-37-2-2-5-3-2-2-2-2-2-2-2-2-3/2026-05-06/
LOCATION:Mt. Zion Baptist Church\, 5141 Dunbrooke Road\, Tappahannock\, VA\, 22560\, United States
END:VEVENT
END:VCALENDAR