BEGIN:VCALENDAR
VERSION:2.0
PRODID:-//Mt. Zion Baptist Church - ECPv4.9.2//NONSGML v1.0//EN
CALSCALE:GREGORIAN
METHOD:PUBLISH
X-WR-CALNAME:Mt. Zion Baptist Church
X-ORIGINAL-URL:https://mtzionbaptist.us
X-WR-CALDESC:Events for Mt. Zion Baptist Church
BEGIN:VEVENT
DTSTART;TZID=America/New_York:20170129T164500
DTEND;TZID=America/New_York:20170129T184500
DTSTAMP:20260425T221532
CREATED:20160504T163332Z
LAST-MODIFIED:20170123T141417Z
UID:2154-1485708300-1485715500@mtzionbaptist.us
SUMMARY:Awana
DESCRIPTION:\n\n\n\n\n\n\nAwana offers a fun\, proven approach for early evangelism and discipleship. Scripture-based programs and exciting games attract families\, promote Bible literacy and help kids develop lifelong faith in Christ. \n\n\n\nAwana meets Sundays 4:45pm – 6:45pm from September to April.  If you have questions about our program\, please contact Marty Carneal at (804) 445-3299. \n\n\n\n\n\n\n\n
URL:https://mtzionbaptist.us/event/awana-11-2-2-2-2-2-3-2-2-2-2-3/2017-01-29/
LOCATION:Mt. Zion Baptist Church\, 5141 Dunbrooke Road\, Tappahannock\, VA\, 22560\, United States
END:VEVENT
END:VCALENDAR